BEGIN:VCALENDAR
PRODID:-//Microsoft Corporation//Outlook 12.0 MIMEDIR//EN
VERSION:2.0
METHOD:PUBLISH
X-MS-OLK-FORCEINSPECTOROPEN:TRUE
BEGIN:VEVENT
DTSTAMP:20210702T200330Z
ORGANIZER;CN=NRF:MAILTO:no-reply@nrf.com
CLASS:PUBLIC
DESCRIPTION:You must be registered for this event with the appropriate Pass Type (https://nrfconverge.nrf.com/event-info/pass-types) to attend this session.\n\nWatch the session: https://www.convergeplatform.com/sessions/19772575/Genpact-roundtable-discussion-Co-hosted-in-partnership-with-Ahold-Delhaize-USA-Retail-CFO-as-a-data-guardian\nYou may also use this link to view the session On-Demand if you miss the live airing.\n\nGenpact roundtable discussion: Co-hosted in partnership with Ahold Delhaize USA: Retail CFO as a data guardian\n\n<p><em>Open to retailers with a Full Conference or Retail Free Pass. Space is limited to the first 25 retailers, on a first-come, first-served basis. </em></p><p></p><p>Genpact finds that 42% of finance leaders ranked generating actionable insights for the wider business as one of their top 3 priorities in the next two years. CFOs must embrace the new role of data custodian and lead a finance team that converts organizational data challenges into insights, to drive faster, better decision making.</p><p>Join Genpact and Retail Business Services, an Ahold Delhaize company, in an endeavour to pinpoint areas for investment focus and initiatives where data analysis can impact revenues, cash flow and compliance.</p>\n\nAll sessions will be accessed via the NRF Retail Converge online event platform (https://convergeplatform.com/).\nLogin credentials can be found in your registration confirmation e-mail.\n\nTo login and view sessions on the NRF Retail Converge online event platform, your device must meet these technical requirements: https://nrfconverge.nrf.com/event-info/technical-requirements. Login via VPN is not supported.
X-ALT-DESC;FMTTYPE=text/html:<!DOCTYPE HTML PUBLIC "-//W3C//DTD HTML 3.2//EN"><HTML><HEAD><META NAME="Generator" CONTENT=""><TITLE></TITLE></HEAD><BODY><p>You must be <a href="https://nrfconverge.nrf.com/register">registered</a> for this event with the appropriate <a href="https://nrfconverge.nrf.com/event-info/pass-types">Pass Type</a> to attend this session.</p><p>Watch the session: <a href="<a href='https://www.convergeplatform.com/sessions/19772575/Genpact-roundtable-discussion-Co-hosted-in-partnership-with-Ahold-Delhaize-USA-Retail-CFO-as-a-data-guardian'>https://www.convergeplatform.com/sessions/19772575/Genpact-roundtable-discussion-Co-hosted-in-partnership-with-Ahold-Delhaize-USA-Retail-CFO-as-a-data-guardian</a>"><a href='https://www.convergeplatform.com/sessions/19772575/Genpact-roundtable-discussion-Co-hosted-in-partnership-with-Ahold-Delhaize-USA-Retail-CFO-as-a-data-guardian'>https://www.convergeplatform.com/sessions/19772575/Genpact-roundtable-discussion-Co-hosted-in-partnership-with-Ahold-Delhaize-USA-Retail-CFO-as-a-data-guardian</a></a><br /><em>You may also use this link to view the session On-Demand if you miss the live airing.</em></p><p><strong>Genpact roundtable discussion: Co-hosted in partnership with Ahold Delhaize USA: Retail CFO as a data guardian</strong></p><p><p><em>Open to retailers with a Full Conference or Retail Free Pass. Space is limited to the first 25 retailers, on a first-come, first-served basis. </em></p><p></p><p>Genpact finds that 42% of finance leaders ranked generating actionable insights for the wider business as one of their top 3 priorities in the next two years. CFOs must embrace the new role of data custodian and lead a finance team that converts organizational data challenges into insights, to drive faster, better decision making.</p><p>Join Genpact and Retail Business Services, an Ahold Delhaize company, in an endeavour to pinpoint areas for investment focus and initiatives where data analysis can impact revenues, cash flow and compliance.</p></p><p><em><strong>All sessions will be accessed via the NRF Retail Converge <a href="https://convergeplatform.com/">online event platform</a>.</strong><br />Login credentials can be found in your registration confirmation e-mail.</em></p><p><em>To login and view sessions on the NRF Retail Converge online event platform, your device must meet these <a href="https://nrfconverge.nrf.com/event-info/technical-requirements">technical requirements</a>. Login via VPN is not supported.</em></p></BODY></HTML>
DTSTART:20210623T170000Z
DTEND:20210623T173000Z
LOCATION:https://www.convergeplatform.com/sessions/19772575/Genpact-roundtable-discussion-Co-hosted-in-partnership-with-Ahold-Delhaize-USA-Retail-CFO-as-a-data-guardian
PRIORITY:5
SEQUENCE:0
SUMMARY;LANGUAGE=en-us:Genpact roundtable discussion: Co-hosted in partnership with Ahold Delhaize USA: Retail CFO as a data guardian
TRANSP:OPAQUE
UID:040000008200E00074C5B7101A82E008000000008062306C6261CA01000000000000000
X-MICROSOFT-CDO-BUSYSTATUS:BUSY
X-MICROSOFT-CDO-IMPORTANCE:1
X-MICROSOFT-DISALLOW-COUNTER:FALSE
X-MS-OLK-ALLOWEXTERNCHECK:TRUE
X-MS-OLK-AUTOFILLLOCATION:FALSE
X-MS-OLK-CONFTYPE:0
BEGIN:VALARM
ACTION:DISPLAY
DESCRIPTION:REMINDER
TRIGGER:-PT10M
END:VALARM
END:VEVENT
END:VCALENDAR
