BEGIN:VCALENDAR
PRODID:-//Microsoft Corporation//Outlook 12.0 MIMEDIR//EN
VERSION:2.0
METHOD:PUBLISH
X-MS-OLK-FORCEINSPECTOROPEN:TRUE
BEGIN:VEVENT
DTSTAMP:20210702T200326Z
ORGANIZER;CN=NRF:MAILTO:no-reply@nrf.com
CLASS:PUBLIC
DESCRIPTION:You must be registered for this event with the appropriate Pass Type (https://nrfconverge.nrf.com/event-info/pass-types) to attend this session.\n\nWatch the session: https://www.convergeplatform.com/sessions/19772576/Citizens-Pay-roundtable-discussion-Choosing-the-right-BNPL-solution-to-grow-sales-and-customer-loyalty\nYou may also use this link to view the session On-Demand if you miss the live airing.\n\nCitizens Pay roundtable discussion: Choosing the right BNPL solution to grow sales and customer loyalty\n\n<p><em>Open to Retailers, VCs, Press and Analysts with a Full Conference or Retail Free Pass. </em></p><p>Buy now, pay later solutions have become table stakes for many retailers. The market is full of options and the differences are not always easy to spot. In this session we will talk about the important questions to consider and ask potential BNPL partners. The more retailers know about what banks and fintechs bring to the table, the better chance the solution they choose will deliver value to their business, and meet the evolving needs of their customers.</p>\n\nAll sessions will be accessed via the NRF Retail Converge online event platform (https://convergeplatform.com/).\nLogin credentials can be found in your registration confirmation e-mail.\n\nTo login and view sessions on the NRF Retail Converge online event platform, your device must meet these technical requirements: https://nrfconverge.nrf.com/event-info/technical-requirements. Login via VPN is not supported.
X-ALT-DESC;FMTTYPE=text/html:<!DOCTYPE HTML PUBLIC "-//W3C//DTD HTML 3.2//EN"><HTML><HEAD><META NAME="Generator" CONTENT=""><TITLE></TITLE></HEAD><BODY><p>You must be <a href="https://nrfconverge.nrf.com/register">registered</a> for this event with the appropriate <a href="https://nrfconverge.nrf.com/event-info/pass-types">Pass Type</a> to attend this session.</p><p>Watch the session: <a href="<a href='https://www.convergeplatform.com/sessions/19772576/Citizens-Pay-roundtable-discussion-Choosing-the-right-BNPL-solution-to-grow-sales-and-customer-loyalty'>https://www.convergeplatform.com/sessions/19772576/Citizens-Pay-roundtable-discussion-Choosing-the-right-BNPL-solution-to-grow-sales-and-customer-loyalty</a>"><a href='https://www.convergeplatform.com/sessions/19772576/Citizens-Pay-roundtable-discussion-Choosing-the-right-BNPL-solution-to-grow-sales-and-customer-loyalty'>https://www.convergeplatform.com/sessions/19772576/Citizens-Pay-roundtable-discussion-Choosing-the-right-BNPL-solution-to-grow-sales-and-customer-loyalty</a></a><br /><em>You may also use this link to view the session On-Demand if you miss the live airing.</em></p><p><strong>Citizens Pay roundtable discussion: Choosing the right BNPL solution to grow sales and customer loyalty</strong></p><p><p><em>Open to Retailers, VCs, Press and Analysts with a Full Conference or Retail Free Pass. </em></p><p>Buy now, pay later solutions have become table stakes for many retailers. The market is full of options and the differences are not always easy to spot. In this session we will talk about the important questions to consider and ask potential BNPL partners. The more retailers know about what banks and fintechs bring to the table, the better chance the solution they choose will deliver value to their business, and meet the evolving needs of their customers.</p></p><p><em><strong>All sessions will be accessed via the NRF Retail Converge <a href="https://convergeplatform.com/">online event platform</a>.</strong><br />Login credentials can be found in your registration confirmation e-mail.</em></p><p><em>To login and view sessions on the NRF Retail Converge online event platform, your device must meet these <a href="https://nrfconverge.nrf.com/event-info/technical-requirements">technical requirements</a>. Login via VPN is not supported.</em></p></BODY></HTML>
DTSTART:20210623T170000Z
DTEND:20210623T173000Z
LOCATION:https://www.convergeplatform.com/sessions/19772576/Citizens-Pay-roundtable-discussion-Choosing-the-right-BNPL-solution-to-grow-sales-and-customer-loyalty
PRIORITY:5
SEQUENCE:0
SUMMARY;LANGUAGE=en-us:Citizens Pay roundtable discussion: Choosing the right BNPL solution to grow sales and customer loyalty
TRANSP:OPAQUE
UID:040000008200E00074C5B7101A82E008000000008062306C6261CA01000000000000000
X-MICROSOFT-CDO-BUSYSTATUS:BUSY
X-MICROSOFT-CDO-IMPORTANCE:1
X-MICROSOFT-DISALLOW-COUNTER:FALSE
X-MS-OLK-ALLOWEXTERNCHECK:TRUE
X-MS-OLK-AUTOFILLLOCATION:FALSE
X-MS-OLK-CONFTYPE:0
BEGIN:VALARM
ACTION:DISPLAY
DESCRIPTION:REMINDER
TRIGGER:-PT10M
END:VALARM
END:VEVENT
END:VCALENDAR
