BEGIN:VCALENDAR
PRODID:-//Microsoft Corporation//Outlook 12.0 MIMEDIR//EN
VERSION:2.0
METHOD:PUBLISH
X-MS-OLK-FORCEINSPECTOROPEN:TRUE
BEGIN:VEVENT
DTSTAMP:20210702T200322Z
ORGANIZER;CN=NRF:MAILTO:no-reply@nrf.com
CLASS:PUBLIC
DESCRIPTION:You must be registered for this event with the appropriate Pass Type (https://nrfconverge.nrf.com/event-info/pass-types) to attend this session.\n\nWatch the session: https://www.convergeplatform.com/live-stream/19772605/Retail-challenges-that-keep-C-level-executives-up-at-night-and-how-technology-can-help-them-sleep\nYou may also use this link to view the session On-Demand if you miss the live airing.\n\nRetail challenges that keep C-level executives up at night and how technology can help them sleep produced by Zebra\n\nJan Rogers Kniffen, retail expert and contributor to CNBC, will discuss key challenges retailers faced during the pandemic and tips on how to be successful moving forward. He will also discuss emerging technology trends that enabled retailers to quickly adjust to meet buyer&rsquo;s needs, lessons learned and the importance of inventory accuracy.\n\nAll sessions will be accessed via the NRF Retail Converge online event platform (https://convergeplatform.com/).\nLogin credentials can be found in your registration confirmation e-mail.\n\nTo login and view sessions on the NRF Retail Converge online event platform, your device must meet these technical requirements: https://nrfconverge.nrf.com/event-info/technical-requirements. Login via VPN is not supported.
X-ALT-DESC;FMTTYPE=text/html:<!DOCTYPE HTML PUBLIC "-//W3C//DTD HTML 3.2//EN"><HTML><HEAD><META NAME="Generator" CONTENT=""><TITLE></TITLE></HEAD><BODY><p>You must be <a href="https://nrfconverge.nrf.com/register">registered</a> for this event with the appropriate <a href="https://nrfconverge.nrf.com/event-info/pass-types">Pass Type</a> to attend this session.</p><p>Watch the session: <a href="<a href='https://www.convergeplatform.com/live-stream/19772605/Retail-challenges-that-keep-C-level-executives-up-at-night-and-how-technology-can-help-them-sleep'>https://www.convergeplatform.com/live-stream/19772605/Retail-challenges-that-keep-C-level-executives-up-at-night-and-how-technology-can-help-them-sleep</a>"><a href='https://www.convergeplatform.com/live-stream/19772605/Retail-challenges-that-keep-C-level-executives-up-at-night-and-how-technology-can-help-them-sleep'>https://www.convergeplatform.com/live-stream/19772605/Retail-challenges-that-keep-C-level-executives-up-at-night-and-how-technology-can-help-them-sleep</a></a><br /><em>You may also use this link to view the session On-Demand if you miss the live airing.</em></p><p><strong>Retail challenges that keep C-level executives up at night and how technology can help them sleep produced by Zebra</strong></p><p>Jan Rogers Kniffen, retail expert and contributor to CNBC, will discuss key challenges retailers faced during the pandemic and tips on how to be successful moving forward. He will also discuss emerging technology trends that enabled retailers to quickly adjust to meet buyer&rsquo;s needs, lessons learned and the importance of inventory accuracy.</p><p><em><strong>All sessions will be accessed via the NRF Retail Converge <a href="https://convergeplatform.com/">online event platform</a>.</strong><br />Login credentials can be found in your registration confirmation e-mail.</em></p><p><em>To login and view sessions on the NRF Retail Converge online event platform, your device must meet these <a href="https://nrfconverge.nrf.com/event-info/technical-requirements">technical requirements</a>. Login via VPN is not supported.</em></p></BODY></HTML>
DTSTART:20210622T174500Z
DTEND:20210622T181500Z
LOCATION:https://www.convergeplatform.com/live-stream/19772605/Retail-challenges-that-keep-C-level-executives-up-at-night-and-how-technology-can-help-them-sleep
PRIORITY:5
SEQUENCE:0
SUMMARY;LANGUAGE=en-us:Retail challenges that keep C-level executives up at night and how technology can help them sleep produced by Zebra
TRANSP:OPAQUE
UID:040000008200E00074C5B7101A82E008000000008062306C6261CA01000000000000000
X-MICROSOFT-CDO-BUSYSTATUS:BUSY
X-MICROSOFT-CDO-IMPORTANCE:1
X-MICROSOFT-DISALLOW-COUNTER:FALSE
X-MS-OLK-ALLOWEXTERNCHECK:TRUE
X-MS-OLK-AUTOFILLLOCATION:FALSE
X-MS-OLK-CONFTYPE:0
BEGIN:VALARM
ACTION:DISPLAY
DESCRIPTION:REMINDER
TRIGGER:-PT10M
END:VALARM
END:VEVENT
END:VCALENDAR
